BEGIN:VCALENDAR
VERSION:2.0
PRODID:City of Brentwood Calendar Creator
METHOD:PUBLISH
BEGIN:VEVENT
DTSTAMP:20250417T125629
DTSTART:20260415T163000
DTEND:20260415T173000
SUMMARY:Library Board Meeting
DESCRIPTION:<p>The John P. Holt Brentwood Library Board meets on the third Wednesday of each month at 4:30 pm at the John P. Holt Brentwood Library, 8109 Concord Road, Brentwood, Tennessee. </p><p align="left">The Brentwood Library Board is comprised of seven Brentwood residents who volunteer their time and talents to help oversee the operations of the library. Appointed by the City Commission, these members represent the viewpoint of the community as it affects library policies, programs and procedures. Assisting with the work of the library board are representatives from the Blue Grass Regional Library in Columbia. Brentwood Library receives professional advice, staff training and limited book funds from the Regional Library.</p><p align="left">For more information and a list of current Library Board Members, please <a href="https://brentwoodtn.prod-as.govaccess.org/departments/library/support-the-library/library-board">CLICK HERE.</a></p>
X-ALT-DESC;FMTTYPE=text/html:<p>The John P. Holt Brentwood Library Board meets on the third Wednesday of each month at 4:30 pm at the John P. Holt Brentwood Library, 8109 Concord Road, Brentwood, Tennessee. </p><p align="left">The Brentwood Library Board is comprised of seven Brentwood residents who volunteer their time and talents to help oversee the operations of the library. Appointed by the City Commission, these members represent the viewpoint of the community as it affects library policies, programs and procedures. Assisting with the work of the library board are representatives from the Blue Grass Regional Library in Columbia. Brentwood Library receives professional advice, staff training and limited book funds from the Regional Library.</p><p align="left">For more information and a list of current Library Board Members, please <a href="https://brentwoodtn.prod-as.govaccess.org/departments/library/support-the-library/library-board">CLICK HERE.</a></p>
LOCATION:John P. Holt Brentwood Library\, 8109 Concord Road Brentwood\, Tennessee 37027
CLASS:PUBLIC
END:VEVENT
END:VCALENDAR
