BEGIN:VCALENDAR
VERSION:2.0
PRODID:City of Brentwood Calendar Creator
METHOD:PUBLISH
BEGIN:VEVENT
DTSTAMP:20240903T120919
DTSTART:20260504T173000
DTEND:20260504T183000
SUMMARY:Park Board Meeting
DESCRIPTION:<p>The Park Board meets on the first Monday of every month at 5:30 p.m. in the Annex Room at Brentwood City Hall, 5211 Maryland Way (<a href="https://brentwoodtn.prod-as.govaccess.org/?navid=527"><span style="color: rgb(145, 59, 14);">meeting schedule</span></a>). Anyone wishing to address the Park Board about a matter should contact the Parks and Recreation Director at 371-0080 to be listed on the agenda. </p><p><strong><span style="text-decoration: underline;">ABOUT THE PARK BOARD</span></strong><br>The Park Board consists of nine members. One member shall be a member of the Board of Commissioners selected by the Board of Commissioners. Eight members&nbsp;must be residents of the city and are appointed by the Board of Commissioners. The Park Board advises the Board of Commissioners and City Manager on any matter relating to the expenditure of public funds or the promulgation or enforcement of rules and regulations governing parks and recreation facilities. <br><br><br>For more&nbsp;about the Park Board, please <a href="https://brentwoodtn.prod-as.govaccess.org/?navid=314"><span style="color: rgb(145, 59, 14);">CLICK HERE FOR ADDITIONAL INFORMATION</span></a>,&nbsp;or contact the Parks and Recreation Department at 371-0080. </p>
X-ALT-DESC;FMTTYPE=text/html:<p>The Park Board meets on the first Monday of every month at 5:30 p.m. in the Annex Room at Brentwood City Hall, 5211 Maryland Way (<a href="https://brentwoodtn.prod-as.govaccess.org/?navid=527"><span style="color: rgb(145, 59, 14);">meeting schedule</span></a>). Anyone wishing to address the Park Board about a matter should contact the Parks and Recreation Director at 371-0080 to be listed on the agenda. </p><p><strong><span style="text-decoration: underline;">ABOUT THE PARK BOARD</span></strong><br>The Park Board consists of nine members. One member shall be a member of the Board of Commissioners selected by the Board of Commissioners. Eight members&nbsp;must be residents of the city and are appointed by the Board of Commissioners. The Park Board advises the Board of Commissioners and City Manager on any matter relating to the expenditure of public funds or the promulgation or enforcement of rules and regulations governing parks and recreation facilities. <br><br><br>For more&nbsp;about the Park Board, please <a href="https://brentwoodtn.prod-as.govaccess.org/?navid=314"><span style="color: rgb(145, 59, 14);">CLICK HERE FOR ADDITIONAL INFORMATION</span></a>,&nbsp;or contact the Parks and Recreation Department at 371-0080. </p>
LOCATION:Brentwood City Hall\, 5211 Maryland Way Brentwood\, Tennessee 37027
CLASS:PUBLIC
END:VEVENT
END:VCALENDAR
