BEGIN:VCALENDAR
VERSION:2.0
PRODID:City of Brentwood Calendar Creator
METHOD:PUBLISH
BEGIN:VEVENT
DTSTAMP:20240903T120849
DTSTART:20260421T073000
DTEND:20260421T083000
SUMMARY:Tree Board Meeting
DESCRIPTION:<p>Unless otherwise rescheduled, the Tree Board meets every&nbsp;third Tuesday of the month at 7:30 a.m. in the Annex Room&nbsp; located on the 2nd floor of the&nbsp;Brentwood City Hall, 5211 Maryland Way.&nbsp;</p><p>The Tree Board consists of eleven members. One member shall be a member of the Board of Commissioners selected by the Board of Commissioners. One member shall be a member of the Planning Commission selected by the Planning Commission and one member shall be a member of the Park Board selected by the Park Board. The remaining six members shall be residents of the city appointed by the Board of Commissioners. <br><br>The duties of the tree board include the following: </p><p><table align="right" cellspacing="0" cellpadding="0">    <tbody>        <tr>            <td><br>            </td>        </tr>    </tbody></table></p><ul>    <li>Preparation of a tree plan for the community.    </li>    <li>Coordination of tree-related activities.    </li>    <li>Planning and holding an annual Arbor Day ceremony.    </li>    <li>Provision of tree information to the community.    </li>    <li>Maintenance of a recommended tree list for the community.    </li>    <li>Recognition of groups and individuals completing tree projects.    </li>    <li>Coordination of publicity concerning trees and tree programs.    </li>    <li>Coordinating donations of trees or money to purchase trees.    </li>    <li>Adoption of rules and regulations pertaining to the tree program. </li></ul><p style="text-align: justify;">For more information&nbsp;please contact <font color="#913b0e"><a href="mailto:&#100;&#101;&#97;&#110;&#110;&#97;&#46;&#108;&#97;&#109;&#98;&#101;&#114;&#116;&#64;&#98;&#114;&#101;&#110;&#116;&#119;&#111;&#111;&#100;&#116;&#110;&#46;&#103;&#111;&#118;">Deanna Lambert</a></font>&nbsp;at 615-371-0060. For information pertaining to the management of trees in Brentwood, please see <a href="http://library.municode.com/HTML/12774/level3/PTIICOOR_CH78ZO_ARTVIIITRMA.html#TOPTITLE" target="_blank"><span style="color: rgb(145, 59, 14);">Chapter 78, Article VIII of the Brentwood Municipal Code</span></a> or contact the Planning and Codes Department at 615-371-2204. </p>
X-ALT-DESC;FMTTYPE=text/html:<p>Unless otherwise rescheduled, the Tree Board meets every&nbsp;third Tuesday of the month at 7:30 a.m. in the Annex Room&nbsp; located on the 2nd floor of the&nbsp;Brentwood City Hall, 5211 Maryland Way.&nbsp;</p><p>The Tree Board consists of eleven members. One member shall be a member of the Board of Commissioners selected by the Board of Commissioners. One member shall be a member of the Planning Commission selected by the Planning Commission and one member shall be a member of the Park Board selected by the Park Board. The remaining six members shall be residents of the city appointed by the Board of Commissioners. <br><br>The duties of the tree board include the following: </p><p><table align="right" cellspacing="0" cellpadding="0">    <tbody>        <tr>            <td><br>            </td>        </tr>    </tbody></table></p><ul>    <li>Preparation of a tree plan for the community.    </li>    <li>Coordination of tree-related activities.    </li>    <li>Planning and holding an annual Arbor Day ceremony.    </li>    <li>Provision of tree information to the community.    </li>    <li>Maintenance of a recommended tree list for the community.    </li>    <li>Recognition of groups and individuals completing tree projects.    </li>    <li>Coordination of publicity concerning trees and tree programs.    </li>    <li>Coordinating donations of trees or money to purchase trees.    </li>    <li>Adoption of rules and regulations pertaining to the tree program. </li></ul><p style="text-align: justify;">For more information&nbsp;please contact <font color="#913b0e"><a href="mailto:&#100;&#101;&#97;&#110;&#110;&#97;&#46;&#108;&#97;&#109;&#98;&#101;&#114;&#116;&#64;&#98;&#114;&#101;&#110;&#116;&#119;&#111;&#111;&#100;&#116;&#110;&#46;&#103;&#111;&#118;">Deanna Lambert</a></font>&nbsp;at 615-371-0060. For information pertaining to the management of trees in Brentwood, please see <a href="http://library.municode.com/HTML/12774/level3/PTIICOOR_CH78ZO_ARTVIIITRMA.html#TOPTITLE" target="_blank"><span style="color: rgb(145, 59, 14);">Chapter 78, Article VIII of the Brentwood Municipal Code</span></a> or contact the Planning and Codes Department at 615-371-2204. </p>
LOCATION:Brentwood City Hall\, 5211 Maryland Way Brentwood\, Tennessee 37027
CLASS:PUBLIC
END:VEVENT
END:VCALENDAR
