BEGIN:VCALENDAR
VERSION:2.0
PRODID:City of Brentwood Calendar Creator
METHOD:PUBLISH
BEGIN:VEVENT
DTSTAMP:20231127T155640
DTSTART:20260417T093000
DTEND:20260417T103000
SUMMARY:Historic Commission Meeting
DESCRIPTION:<p>The Historic&nbsp;Commission meets on the third Friday of each month at 9:30 a.m. in the Annex Room on the 2nd floor of the Brentwood City Hall, 5211 Maryland Way. </p><p style="text-align: left;">The Historic Commission is composed of twelve members. One member shall be a member of the Board of Commissioners selected by the Board of Commissioners. One member shall be a member of the Brentwood Planning Commission selected by the Planning Commission. The remaining ten members shall be residents of the city appointed by the Board of Commissioners </p><p><em>Historic Commission Mission Statement: To promote an awareness of Brentwood’s rich cultural history and heritage; enhance the quality of life through the preservation of historic sites, by providing educational programs and activities; and as a city appointed volunteer board, coordinate with the City of Brentwood and the Brentwood Planning Commission to accomplish these goals.</em></p><p>The Historic Commission’s purpose is to promote the preservation of Brentwood’s historic sites and heritage. This is accomplished by recognizing and preserving the historic sites in Brentwood such as the Cool Springs&nbsp;House in Crockett Park and the Boiling Spring Academy in Primm Park.&nbsp;The Commission also provides educational programs, activities and events relating to the heritage of Brentwood. Each board member is responsible for one major project a year. </p><p><a href="https://brentwoodtn.prod-as.govaccess.org/?navid=246"><span style="color: rgb(145, 59, 14);">Click here</span></a>&nbsp;to go to the Historic Commission webpage.&nbsp;</p>
X-ALT-DESC;FMTTYPE=text/html:<p>The Historic&nbsp;Commission meets on the third Friday of each month at 9:30 a.m. in the Annex Room on the 2nd floor of the Brentwood City Hall, 5211 Maryland Way. </p><p style="text-align: left;">The Historic Commission is composed of twelve members. One member shall be a member of the Board of Commissioners selected by the Board of Commissioners. One member shall be a member of the Brentwood Planning Commission selected by the Planning Commission. The remaining ten members shall be residents of the city appointed by the Board of Commissioners </p><p><em>Historic Commission Mission Statement: To promote an awareness of Brentwood’s rich cultural history and heritage; enhance the quality of life through the preservation of historic sites, by providing educational programs and activities; and as a city appointed volunteer board, coordinate with the City of Brentwood and the Brentwood Planning Commission to accomplish these goals.</em></p><p>The Historic Commission’s purpose is to promote the preservation of Brentwood’s historic sites and heritage. This is accomplished by recognizing and preserving the historic sites in Brentwood such as the Cool Springs&nbsp;House in Crockett Park and the Boiling Spring Academy in Primm Park.&nbsp;The Commission also provides educational programs, activities and events relating to the heritage of Brentwood. Each board member is responsible for one major project a year. </p><p><a href="https://brentwoodtn.prod-as.govaccess.org/?navid=246"><span style="color: rgb(145, 59, 14);">Click here</span></a>&nbsp;to go to the Historic Commission webpage.&nbsp;</p>
LOCATION:Brentwood City Hall\, 5211 Maryland Way Brentwood\, Tennessee 37027
CLASS:PUBLIC
END:VEVENT
END:VCALENDAR
