BEGIN:VCALENDAR
VERSION:2.0
PRODID:City of Brentwood Calendar Creator
METHOD:PUBLISH
BEGIN:VEVENT
DTSTAMP:20230814T174510
DTSTART:20260413T190000
DTEND:20260413T200000
SUMMARY:City Commission Meeting
DESCRIPTION:<p>The Brentwood City Commission meets in formal session&nbsp;on the second and fourth Mondays of the month,&nbsp;unless otherwise rescheduled.&nbsp;&nbsp;The meetings are&nbsp;held at 7:00 p.m. in the&nbsp;Commission Chambers&nbsp;on the 2nd floor of&nbsp;the Brentwood City Hall.&nbsp;&nbsp;The public is invited to attend and an opportunity is given early in the meeting for public comment.&nbsp;&nbsp;A copy of the agenda can be found here: <a href="https://brentwoodtn.prod-as.govaccess.org/your-government/agendas-minutes-videos" target="_blank"><strong><span style="color: rgb(145, 59, 14);">CLICK FOR AGENDA</span></strong></a>.</p><p>The meetings are&nbsp;videotaped and are made available&nbsp;the following day here: <a href="https://brentwoodtn.prod-as.govaccess.org/your-government/agendas-minutes-videos" target="_blank"><strong><span style="color: rgb(145, 59, 14);">CLICK FOR VIDEO</span></strong></a>.&nbsp; They are&nbsp;broadcast on Comcast Channel 19 at 9:00 a.m and 7:00 p.m. the following&nbsp;day (Tuesday)&nbsp;and Thursday, as well as the week after.&nbsp; &nbsp;&nbsp;</p><p><strong>ABOUT THE CITY COMMISSION</strong></p><p>The City Commission is the legislative and policy-making body of the City. It consists of 7 members elected at-large for 4-year, staggered terms. The Mayor and Vice Mayor are appointed by the City Commission for 2-year terms.&nbsp; For a list of City Commissioners and their contact information, please <a href="https://brentwoodtn.prod-as.govaccess.org/your-government/board-of-commissioners"><strong><span style="color: rgb(145, 59, 14);">CLICK FOR MORE INFORMATION</span></strong></a></p>
X-ALT-DESC;FMTTYPE=text/html:<p>The Brentwood City Commission meets in formal session&nbsp;on the second and fourth Mondays of the month,&nbsp;unless otherwise rescheduled.&nbsp;&nbsp;The meetings are&nbsp;held at 7:00 p.m. in the&nbsp;Commission Chambers&nbsp;on the 2nd floor of&nbsp;the Brentwood City Hall.&nbsp;&nbsp;The public is invited to attend and an opportunity is given early in the meeting for public comment.&nbsp;&nbsp;A copy of the agenda can be found here: <a href="https://brentwoodtn.prod-as.govaccess.org/your-government/agendas-minutes-videos" target="_blank"><strong><span style="color: rgb(145, 59, 14);">CLICK FOR AGENDA</span></strong></a>.</p><p>The meetings are&nbsp;videotaped and are made available&nbsp;the following day here: <a href="https://brentwoodtn.prod-as.govaccess.org/your-government/agendas-minutes-videos" target="_blank"><strong><span style="color: rgb(145, 59, 14);">CLICK FOR VIDEO</span></strong></a>.&nbsp; They are&nbsp;broadcast on Comcast Channel 19 at 9:00 a.m and 7:00 p.m. the following&nbsp;day (Tuesday)&nbsp;and Thursday, as well as the week after.&nbsp; &nbsp;&nbsp;</p><p><strong>ABOUT THE CITY COMMISSION</strong></p><p>The City Commission is the legislative and policy-making body of the City. It consists of 7 members elected at-large for 4-year, staggered terms. The Mayor and Vice Mayor are appointed by the City Commission for 2-year terms.&nbsp; For a list of City Commissioners and their contact information, please <a href="https://brentwoodtn.prod-as.govaccess.org/your-government/board-of-commissioners"><strong><span style="color: rgb(145, 59, 14);">CLICK FOR MORE INFORMATION</span></strong></a></p>
LOCATION:Brentwood City Hall\, 5211 Maryland Way Brentwood\, Tennessee 37027
CLASS:PUBLIC
END:VEVENT
END:VCALENDAR
